BEGIN:VCALENDAR
PRODID:-//SINGPromos.com//NONSGML v1.0//EN
VERSION:2.0
CALSCALE:GREGORIAN
METHOD:PUBLISH
X-WR-CALNAME:SINGPromos.com
X-ORIGINAL-URL:https://singpromos.com
X-WR-CALDESC:Events for SINGPromos.com
BEGIN:VEVENT
DTSTART:20160131T000000
DTEND:20160131T235900
DTSTAMP:20260422T212636
CREATED:20160131T000307
LAST-MODIFIED:20160131T003241
UID:171457@https://singpromos.com
SUMMARY:Fairprice 1-Day CNY Deals (Ferrero Rocher, Milo, Brand's & More) 31 Jan 2016
DESCRIPTION:Fairprice counts down to the Lunar New Year with unique 1-day deals. For today, offers include Ferrero Rocher T24 300g at $8.35/box (U.P. $15.50), Milo, Brand's and more. For more information, visit [ https://singpromos.com/dining-restaurants-food/fairprice-1-day-cny-deals-ferrero-rocher-milo-brands-more-31-jan-2016-171457/ ]. 
LOCATION:
URL:https://singpromos.com/dining-restaurants-food/fairprice-1-day-cny-deals-ferrero-rocher-milo-brands-more-31-jan-2016-171457/
END:VEVENT
END:VCALENDAR