BEGIN:VCALENDAR
PRODID:-//SINGPromos.com//NONSGML v1.0//EN
VERSION:2.0
CALSCALE:GREGORIAN
METHOD:PUBLISH
X-WR-CALNAME:SINGPromos.com
X-ORIGINAL-URL:https://singpromos.com
X-WR-CALDESC:Events for SINGPromos.com
BEGIN:VEVENT
DTSTART:20160131T000000
DTEND:20160131T235900
DTSTAMP:20260422T212626
CREATED:20160131T110220
LAST-MODIFIED:20160131T113532
UID:171467@https://singpromos.com
SUMMARY:La Senza 1-FOR-1 Buy 1 Get 1 FREE Bras 1-Day Promotion 31 Jan 2016
DESCRIPTION:It's time to update that sexy bra collection today. Buy any two bra pieces and get the lowest-priced piece FREE. For more information, visit [ https://singpromos.com/fashion-accessories/la-senza-buy-1-get-1-free-bras-1-day-promotion-31-jan-2016-171467/ ]. 
LOCATION:
URL:https://singpromos.com/fashion-accessories/la-senza-buy-1-get-1-free-bras-1-day-promotion-31-jan-2016-171467/
END:VEVENT
END:VCALENDAR