BEGIN:VCALENDAR
PRODID:-//SINGPromos.com//NONSGML v1.0//EN
VERSION:2.0
CALSCALE:GREGORIAN
METHOD:PUBLISH
X-WR-CALNAME:SINGPromos.com
X-ORIGINAL-URL:https://singpromos.com
X-WR-CALDESC:Events for SINGPromos.com
BEGIN:VEVENT
DTSTART:20160131T000000
DTEND:20160331T235900
DTSTAMP:20260422T212637
CREATED:20160131T143454
LAST-MODIFIED:20160502T232226
UID:171472@https://singpromos.com
SUMMARY:FoodPanda $15 OFF $25 Spend Coupon Code (New Cust) From 31 Jan 2016
DESCRIPTION:Enjoy $15 OFF on all restaurants at FoodPanda for a limited time only! One time use only. Minimum spend $25. New customers only. For more information, visit [ https://singpromos.com/dining-restaurants-food/foodpanda-15-off-25-spend-coupon-code-newexisting-cust-from-31-jan-2016-171472/ ]. 
LOCATION:
URL:https://singpromos.com/dining-restaurants-food/foodpanda-15-off-25-spend-coupon-code-newexisting-cust-from-31-jan-2016-171472/
END:VEVENT
END:VCALENDAR