BEGIN:VCALENDAR
PRODID:-//SINGPromos.com//NONSGML v1.0//EN
VERSION:2.0
CALSCALE:GREGORIAN
METHOD:PUBLISH
X-WR-CALNAME:SINGPromos.com
X-ORIGINAL-URL:https://singpromos.com
X-WR-CALDESC:Events for SINGPromos.com
BEGIN:VEVENT
DTSTART:20160201T000000
DTEND:20160331T235900
DTSTAMP:20260422T212544
CREATED:20160131T131643
LAST-MODIFIED:20160409T160014
UID:171475@https://singpromos.com
SUMMARY:Starbucks Buy Any Breakfast Set & Get FREE Upgrade 1 Feb - 31 Mar 2016
DESCRIPTION:Happiness on a plate. From 1-29 Feb, get any breakfast set and enjoy a FREE upgrade to a Tall Latte or Cappuccino.. For more information, visit [ https://singpromos.com/dining-restaurants-food/starbucks-buy-any-breakfast-set-get-free-upgrade-1-29-feb-2016-171475/ ]. 
LOCATION:
URL:https://singpromos.com/dining-restaurants-food/starbucks-buy-any-breakfast-set-get-free-upgrade-1-29-feb-2016-171475/
END:VEVENT
END:VCALENDAR