BEGIN:VCALENDAR
PRODID:-//SINGPromos.com//NONSGML v1.0//EN
VERSION:2.0
CALSCALE:GREGORIAN
METHOD:PUBLISH
X-WR-CALNAME:SINGPromos.com
X-ORIGINAL-URL:https://singpromos.com
X-WR-CALDESC:Events for SINGPromos.com
BEGIN:VEVENT
DTSTART:20160205T000000
DTEND:20160210T235900
DTSTAMP:20260422T195531
CREATED:20160131T195730
LAST-MODIFIED:20160201T170735
UID:171480@https://singpromos.com
SUMMARY:Starhub Cable TV CNY FREE Preview 5 - 10 Feb 2016
DESCRIPTION:Starhub Cable TV will be offering StarHub TV customers a FREE Preview in celebration of Chinese New Year. Enjoy free viewing of over 150 channels from 5 Feb, 12pm to 10 Feb, 12pm!. For more information, visit [ https://singpromos.com/telecoms/starhub-tv-cny-free-preview-5-10-feb-2016-171480/ ]. 
LOCATION:
URL:https://singpromos.com/telecoms/starhub-tv-cny-free-preview-5-10-feb-2016-171480/
END:VEVENT
END:VCALENDAR