BEGIN:VCALENDAR
PRODID:-//SINGPromos.com//NONSGML v1.0//EN
VERSION:2.0
CALSCALE:GREGORIAN
METHOD:PUBLISH
X-WR-CALNAME:SINGPromos.com
X-ORIGINAL-URL:https://singpromos.com
X-WR-CALDESC:Events for SINGPromos.com
BEGIN:VEVENT
DTSTART:20160207T000000
DTEND:20160209T235900
DTSTAMP:20260420T053529
CREATED:20160201T155427
LAST-MODIFIED:20160201T180131
UID:171563@https://singpromos.com
SUMMARY:IKEA Opening Hours Chinese New Year 7 - 9 Feb 2016
DESCRIPTION:IKEA stores will be open as usual on Chinese New Year eve on 7 February and on Chinese New Year holiday period from 8 - 9 February 2015. Here are the official opening hours for the two stores. For more information, visit [ https://singpromos.com/department-stores/ikea-opening-hours-chinese-new-year-7-9-feb-2016-171563/ ]. 
LOCATION:
URL:https://singpromos.com/department-stores/ikea-opening-hours-chinese-new-year-7-9-feb-2016-171563/
END:VEVENT
END:VCALENDAR