BEGIN:VCALENDAR
PRODID:-//SINGPromos.com//NONSGML v1.0//EN
VERSION:2.0
CALSCALE:GREGORIAN
METHOD:PUBLISH
X-WR-CALNAME:SINGPromos.com
X-ORIGINAL-URL:https://singpromos.com
X-WR-CALDESC:Events for SINGPromos.com
BEGIN:VEVENT
DTSTART:20160202T000000
DTEND:20160221T235900
DTSTAMP:20260422T074626
CREATED:20160202T184153
LAST-MODIFIED:20160301T202221
UID:171676@https://singpromos.com
SUMMARY:Samsung $209 SSD 850 EVO 500GB Deal From 2 Feb 2016
DESCRIPTION:Lazada is offering the Samsung 850EVO 500GB Solid State Drive (Black) at only SG$209 inclusive of shipping. Must make payment via MasterPass and enter code at checkout. For more information, visit [ https://singpromos.com/computers-pc/samsung-209-ssd-850-evo-500gb-deal-from-2-feb-2016-171676/ ]. 
LOCATION:
URL:https://singpromos.com/computers-pc/samsung-209-ssd-850-evo-500gb-deal-from-2-feb-2016-171676/
END:VEVENT
END:VCALENDAR