BEGIN:VCALENDAR
PRODID:-//SINGPromos.com//NONSGML v1.0//EN
VERSION:2.0
CALSCALE:GREGORIAN
METHOD:PUBLISH
X-WR-CALNAME:SINGPromos.com
X-ORIGINAL-URL:https://singpromos.com
X-WR-CALDESC:Events for SINGPromos.com
BEGIN:VEVENT
DTSTART:20160204T000000
DTEND:20160217T235900
DTSTAMP:20260422T082319
CREATED:20160204T141630
LAST-MODIFIED:20160205T014610
UID:171769@https://singpromos.com
SUMMARY:Fairprice Abalones (New Moon, Diamond Prince) & Other CNY Offers 4 - 17 Feb 2016
DESCRIPTION:Check out Fairprice's Lunar New Year Specials featuring New Moon New Zealand Abalone 425g at $27.50, New Moon Australia Abalone, 50% off Cadbury Panned Nuts tin and many other CNY offers valid till up to 17 Feb. For more information, visit [ https://singpromos.com/dining-restaurants-food/fairprice-abalones-new-moon-diamond-prince-other-cny-offers-4-17-feb-2016-171769/ ]. 
LOCATION:
URL:https://singpromos.com/dining-restaurants-food/fairprice-abalones-new-moon-diamond-prince-other-cny-offers-4-17-feb-2016-171769/
END:VEVENT
END:VCALENDAR