BEGIN:VCALENDAR
PRODID:-//SINGPromos.com//NONSGML v1.0//EN
VERSION:2.0
CALSCALE:GREGORIAN
METHOD:PUBLISH
X-WR-CALNAME:SINGPromos.com
X-ORIGINAL-URL:https://singpromos.com
X-WR-CALDESC:Events for SINGPromos.com
BEGIN:VEVENT
DTSTART:20160205T000000
DTEND:20160209T235900
DTSTAMP:20260419T224842
CREATED:20160205T200600
LAST-MODIFIED:20160205T232237
UID:171911@https://singpromos.com
SUMMARY:Electronic Arts 60% to 85% Off PC Games Collection 5 - 9 Feb 2016
DESCRIPTION:Complete your Electronic Arts collection with a 85% discount or get 60% off each EA game with GOG's latest promotion.. For more information, visit [ https://singpromos.com/video-games/electronic-arts-60-to-85-off-pc-games-collection-5-9-feb-2016-171911/ ]. 
LOCATION:
URL:https://singpromos.com/video-games/electronic-arts-60-to-85-off-pc-games-collection-5-9-feb-2016-171911/
END:VEVENT
END:VCALENDAR