BEGIN:VCALENDAR
PRODID:-//SINGPromos.com//NONSGML v1.0//EN
VERSION:2.0
CALSCALE:GREGORIAN
METHOD:PUBLISH
X-WR-CALNAME:SINGPromos.com
X-ORIGINAL-URL:https://singpromos.com
X-WR-CALDESC:Events for SINGPromos.com
BEGIN:VEVENT
DTSTART:20160207T000000
DTEND:20160208T235900
DTSTAMP:20260420T014544
CREATED:20160207T100944
LAST-MODIFIED:20160207T143404
UID:171982@https://singpromos.com
SUMMARY:Braun 57% Off Silk Epil 9 Wet & Dry Cordless Epilator 24hr Promo 7 - 8 Feb 2016
DESCRIPTION:Get the Braun Silk Epil 9 9-561 Wet & Dry Cordless Epilator at 57% Off with Amazon UK's 24hr Gold Box deal of the day. Features an enhanced standard of epilation with a wide epilation head for faster results & MicroGrip tweezer technology.. For more information, visit [ https://singpromos.com/personal-care/braun-57-off-silk-epil-9-wet-dry-cordless-epilator-24hr-promo-7-8-feb-2016-171982/ ]. 
LOCATION:
URL:https://singpromos.com/personal-care/braun-57-off-silk-epil-9-wet-dry-cordless-epilator-24hr-promo-7-8-feb-2016-171982/
END:VEVENT
END:VCALENDAR