BEGIN:VCALENDAR
PRODID:-//SINGPromos.com//NONSGML v1.0//EN
VERSION:2.0
CALSCALE:GREGORIAN
METHOD:PUBLISH
X-WR-CALNAME:SINGPromos.com
X-ORIGINAL-URL:https://singpromos.com
X-WR-CALDESC:Events for SINGPromos.com
BEGIN:VEVENT
DTSTART:20160309T000000
DTEND:20160327T235900
DTSTAMP:20260420T053435
CREATED:20160208T122531
LAST-MODIFIED:20160308T124544
UID:172008@https://singpromos.com
SUMMARY:IKEA Sale 9 - 27 Mar 2016
DESCRIPTION:IKEA will be starting a Sale from 9 March to 27 March 2016. The first day of the sale is exclusively for Family members, for which membership can be obtained in-store free. For more information, visit [ https://singpromos.com/department-stores/ikea-sale-9-27-mar-2016-172008/ ]. 
LOCATION:
URL:https://singpromos.com/department-stores/ikea-sale-9-27-mar-2016-172008/
END:VEVENT
END:VCALENDAR