BEGIN:VCALENDAR
PRODID:-//SINGPromos.com//NONSGML v1.0//EN
VERSION:2.0
CALSCALE:GREGORIAN
METHOD:PUBLISH
X-WR-CALNAME:SINGPromos.com
X-ORIGINAL-URL:https://singpromos.com
X-WR-CALDESC:Events for SINGPromos.com
BEGIN:VEVENT
DTSTART:20160211T000000
DTEND:20160212T235900
DTSTAMP:20260420T014754
CREATED:20160211T123831
LAST-MODIFIED:20160211T123930
UID:172161@https://singpromos.com
SUMMARY:Braun 65% Off Series 3 3040 Men's Electric Foil Shaver Wet/Dry 24hr Promo 11 - 12 Feb 2016
DESCRIPTION:Get the Braun Series 3 3040 Men's Electric Foil Shaver Wet/Dry at 65% off with Amazon UK's 24hr Gold Box deal of the day/. 4.3 out of 5 stars average customer review. #1 Best Seller in Men's Electric Foil Shavers. For more information, visit [ https://singpromos.com/personal-care/braun-65-off-series-3-3040-mens-electric-foil-shaver-wetdry-24hr-promo-11-12-feb-2016-172161/ ]. 
LOCATION:
URL:https://singpromos.com/personal-care/braun-65-off-series-3-3040-mens-electric-foil-shaver-wetdry-24hr-promo-11-12-feb-2016-172161/
END:VEVENT
END:VCALENDAR