BEGIN:VCALENDAR
PRODID:-//SINGPromos.com//NONSGML v1.0//EN
VERSION:2.0
CALSCALE:GREGORIAN
METHOD:PUBLISH
X-WR-CALNAME:SINGPromos.com
X-ORIGINAL-URL:https://singpromos.com
X-WR-CALDESC:Events for SINGPromos.com
BEGIN:VEVENT
DTSTART:20160211T000000
DTEND:20160229T235900
DTSTAMP:20260422T190334
CREATED:20160211T211825
LAST-MODIFIED:20160211T211825
UID:172215@https://singpromos.com
SUMMARY:Standard Chartered 1.52% to 1.75% p.a. SGD Time Deposit Promo 11 - 29 Feb 2016
DESCRIPTION:From now till 29 February 2016, earn attractive returns when you deposit minimum fresh funds of S$25,000. Earn up to 1.78% p.a. interest on your 24-month SGD Time Deposit today.. For more information, visit [ https://singpromos.com/banks-credit-cards/standard-chartered-1-52-to-1-75-p-a-sgd-time-deposit-promo-11-29-feb-2016-172215/ ]. 
LOCATION:
URL:https://singpromos.com/banks-credit-cards/standard-chartered-1-52-to-1-75-p-a-sgd-time-deposit-promo-11-29-feb-2016-172215/
END:VEVENT
END:VCALENDAR