BEGIN:VCALENDAR
PRODID:-//SINGPromos.com//NONSGML v1.0//EN
VERSION:2.0
CALSCALE:GREGORIAN
METHOD:PUBLISH
X-WR-CALNAME:SINGPromos.com
X-ORIGINAL-URL:https://singpromos.com
X-WR-CALDESC:Events for SINGPromos.com
BEGIN:VEVENT
DTSTART:20160216T000000
DTEND:20160221T235900
DTSTAMP:20260422T082317
CREATED:20160216T194503
LAST-MODIFIED:20160220T114646
UID:172523@https://singpromos.com
SUMMARY:JRunway 50% Off Storewide Moving Out Sale @ Plaza Singapura 16 - 21 Feb 2016
DESCRIPTION:JRunway is having a moving out sale at Plaza Singapurea featuring 50% off storewide nett-priced and sale items. For more information, visit [ https://singpromos.com/warehouse-sales/jrunway-50-off-storewide-moving-out-sale-plaza-singapura-from-16-feb-2016-172523/ ]. 
LOCATION:238839
URL:https://singpromos.com/warehouse-sales/jrunway-50-off-storewide-moving-out-sale-plaza-singapura-from-16-feb-2016-172523/
END:VEVENT
END:VCALENDAR