BEGIN:VCALENDAR
PRODID:-//SINGPromos.com//NONSGML v1.0//EN
VERSION:2.0
CALSCALE:GREGORIAN
METHOD:PUBLISH
X-WR-CALNAME:SINGPromos.com
X-ORIGINAL-URL:https://singpromos.com
X-WR-CALDESC:Events for SINGPromos.com
BEGIN:VEVENT
DTSTART:20160217T000000
DTEND:20160218T235900
DTSTAMP:20260422T082316
CREATED:20160217T134044
LAST-MODIFIED:20160217T134059
UID:172558@https://singpromos.com
SUMMARY:Braun 64% Off Face 810 Facial Epilator & Facial Cleansing Brush 24hr Promo 17 - 18 Feb 2016
DESCRIPTION:Get the Braun Face 810 Facial Epilator and Facial Cleansing Brush at 64% off with Amazon UK's 24hr Gold Box deal of the day. Treat your face to flawless radiance. Sleek and compact design for precise epilation. 10 micro-openings catch even the finest hairs (0.02 mm). For more information, visit [ https://singpromos.com/personal-care/braun-64-off-face-810-facial-epilator-facial-cleansing-brush-24hr-promo-17-18-feb-2016-172558/ ]. 
LOCATION:
URL:https://singpromos.com/personal-care/braun-64-off-face-810-facial-epilator-facial-cleansing-brush-24hr-promo-17-18-feb-2016-172558/
END:VEVENT
END:VCALENDAR