BEGIN:VCALENDAR
PRODID:-//SINGPromos.com//NONSGML v1.0//EN
VERSION:2.0
CALSCALE:GREGORIAN
METHOD:PUBLISH
X-WR-CALNAME:SINGPromos.com
X-ORIGINAL-URL:https://singpromos.com
X-WR-CALDESC:Events for SINGPromos.com
BEGIN:VEVENT
DTSTART:20160217T000000
DTEND:20160217T235900
DTSTAMP:20260422T082322
CREATED:20160217T135227
LAST-MODIFIED:20160217T135227
UID:172563@https://singpromos.com
SUMMARY:Cotton On 30% Off Women's & Men's Storewide 24hr Promo 17 Feb 2016
DESCRIPTION:Save 30% off on Cotton On women's & men's full price items for one day only on 17 Feb.. For more information, visit [ https://singpromos.com/fashion-accessories/cotton-on-30-off-womens-mens-storewide-24hr-promo-17-feb-2016-172563/ ]. 
LOCATION:
URL:https://singpromos.com/fashion-accessories/cotton-on-30-off-womens-mens-storewide-24hr-promo-17-feb-2016-172563/
END:VEVENT
END:VCALENDAR