BEGIN:VCALENDAR
PRODID:-//SINGPromos.com//NONSGML v1.0//EN
VERSION:2.0
CALSCALE:GREGORIAN
METHOD:PUBLISH
X-WR-CALNAME:SINGPromos.com
X-ORIGINAL-URL:https://singpromos.com
X-WR-CALDESC:Events for SINGPromos.com
BEGIN:VEVENT
DTSTART:20160217T000000
DTEND:20160218T235900
DTSTAMP:20260422T082321
CREATED:20160217T140319
LAST-MODIFIED:20160219T071359
UID:172572@https://singpromos.com
SUMMARY:WD $97 2TB My Passport Ultra USB External Storage Drive Deal From 17 Feb 2016
DESCRIPTION:Get the Western Digital WD 2TB My Passport Ultra USB External Storage Drive at $97 (inclusive of shipping) at Lazada's online store. Must make payment via MasterPass and enter code. For more information, visit [ https://singpromos.com/computers-pc/wd-97-2tb-my-passport-ultra-usb-external-storage-drive-deal-from-17-feb-2016-172572/ ]. 
LOCATION:
URL:https://singpromos.com/computers-pc/wd-97-2tb-my-passport-ultra-usb-external-storage-drive-deal-from-17-feb-2016-172572/
END:VEVENT
END:VCALENDAR