BEGIN:VCALENDAR
PRODID:-//SINGPromos.com//NONSGML v1.0//EN
VERSION:2.0
CALSCALE:GREGORIAN
METHOD:PUBLISH
X-WR-CALNAME:SINGPromos.com
X-ORIGINAL-URL:https://singpromos.com
X-WR-CALDESC:Events for SINGPromos.com
BEGIN:VEVENT
DTSTART:20160217T000000
DTEND:20160308T235900
DTSTAMP:20260422T081724
CREATED:20160217T204128
LAST-MODIFIED:20160217T204142
UID:172605@https://singpromos.com
SUMMARY:Fish & Co $10 Main Course & Drink Student Promo From 17 Feb 2016
DESCRIPTION:Students enjoy a $10 meal consisting of a main course and drink at Fish & Co outlets from 17 February. For more information, visit [ https://singpromos.com/dining-restaurants-food/fish-co-10-main-course-drink-student-promo-from-17-feb-2016-172605/ ]. 
LOCATION:
URL:https://singpromos.com/dining-restaurants-food/fish-co-10-main-course-drink-student-promo-from-17-feb-2016-172605/
END:VEVENT
END:VCALENDAR