BEGIN:VCALENDAR
PRODID:-//SINGPromos.com//NONSGML v1.0//EN
VERSION:2.0
CALSCALE:GREGORIAN
METHOD:PUBLISH
X-WR-CALNAME:SINGPromos.com
X-ORIGINAL-URL:https://singpromos.com
X-WR-CALDESC:Events for SINGPromos.com
BEGIN:VEVENT
DTSTART:20160218T000000
DTEND:20160224T235900
DTSTAMP:20260422T082323
CREATED:20160218T131616
LAST-MODIFIED:20160220T215320
UID:172616@https://singpromos.com
SUMMARY:Fairprice Must-Buy Deals (Ben & Jerry's, Brand's, Similac & More) 18 - 24 Feb 2016
DESCRIPTION:Check out NTUC Fairprice's latest must buy deals featuring 3 tubs of Ben & Jerry's for $29.50, $15.50 off BRAND'S Essence Of Chicken and more. For more information, visit [ https://singpromos.com/dining-restaurants-food/fairprice-must-buy-deals-ben-jerrys-brands-similac-more-18-24-feb-2016-172616/ ]. 
LOCATION:
URL:https://singpromos.com/dining-restaurants-food/fairprice-must-buy-deals-ben-jerrys-brands-similac-more-18-24-feb-2016-172616/
END:VEVENT
END:VCALENDAR