BEGIN:VCALENDAR
PRODID:-//SINGPromos.com//NONSGML v1.0//EN
VERSION:2.0
CALSCALE:GREGORIAN
METHOD:PUBLISH
X-WR-CALNAME:SINGPromos.com
X-ORIGINAL-URL:https://singpromos.com
X-WR-CALDESC:Events for SINGPromos.com
BEGIN:VEVENT
DTSTART:20160310T000000
DTEND:20160313T235900
DTSTAMP:20260422T082301
CREATED:20160218T192529
LAST-MODIFIED:20160313T213306
UID:172685@https://singpromos.com
SUMMARY:IT SHOW 2016 Price List, Floor Plans & Hot Deals 10 - 13 Mar 2016
DESCRIPTION:IT SHOW 2016 is the next IT SHOW in Singapore with IT related gadgets and hardware going at huge discounts on Mar 2016. The PC fair is to be held from 10 to 13 March at Suntec Singapore. For more information, visit [ https://singpromos.com/happenings/it-show-2016-price-list-floor-plans-hot-deals-10-13-mar-2016-172685/ ]. 
LOCATION:039593
URL:https://singpromos.com/happenings/it-show-2016-price-list-floor-plans-hot-deals-10-13-mar-2016-172685/
END:VEVENT
END:VCALENDAR