BEGIN:VCALENDAR
PRODID:-//SINGPromos.com//NONSGML v1.0//EN
VERSION:2.0
CALSCALE:GREGORIAN
METHOD:PUBLISH
X-WR-CALNAME:SINGPromos.com
X-ORIGINAL-URL:https://singpromos.com
X-WR-CALDESC:Events for SINGPromos.com
BEGIN:VEVENT
DTSTART:20160219T000000
DTEND:20160221T235900
DTSTAMP:20260422T082322
CREATED:20160218T193340
LAST-MODIFIED:20160218T193340
UID:172688@https://singpromos.com
SUMMARY:Metro 20% Off Storewide Promotion 19 - 21 Feb 2016
DESCRIPTION:From 19 to 21 February 2016, enjoy 20% off storewide at Metro including cosmetics and fragrances.. For more information, visit [ https://singpromos.com/department-stores/metro-20-off-storewide-promotion-19-21-feb-2016-172688/ ]. 
LOCATION:
URL:https://singpromos.com/department-stores/metro-20-off-storewide-promotion-19-21-feb-2016-172688/
END:VEVENT
END:VCALENDAR