BEGIN:VCALENDAR
PRODID:-//SINGPromos.com//NONSGML v1.0//EN
VERSION:2.0
CALSCALE:GREGORIAN
METHOD:PUBLISH
X-WR-CALNAME:SINGPromos.com
X-ORIGINAL-URL:https://singpromos.com
X-WR-CALDESC:Events for SINGPromos.com
BEGIN:VEVENT
DTSTART:20160219T000000
DTEND:20160222T235900
DTSTAMP:20260422T082320
CREATED:20160218T193611
LAST-MODIFIED:20160218T193611
UID:172692@https://singpromos.com
SUMMARY:Seawaves Frozen Food Buy 2 Get 1 Free @ Fairprice 19 - 22 Feb 2016
DESCRIPTION:Craving for Seawaves Frozen Food's all time favourite best sellers? Enjoy Buy 2 Get 1 Free promotion on 200g Cuttlefish Balls and Prawn Balls and save up to $3.50 in this special deal!. For more information, visit [ https://singpromos.com/dining-restaurants-food/seawaves-frozen-food-buy-2-get-1-free-fairprice-19-22-feb-2016-172692/ ]. 
LOCATION:
URL:https://singpromos.com/dining-restaurants-food/seawaves-frozen-food-buy-2-get-1-free-fairprice-19-22-feb-2016-172692/
END:VEVENT
END:VCALENDAR