BEGIN:VCALENDAR
PRODID:-//SINGPromos.com//NONSGML v1.0//EN
VERSION:2.0
CALSCALE:GREGORIAN
METHOD:PUBLISH
X-WR-CALNAME:SINGPromos.com
X-ORIGINAL-URL:https://singpromos.com
X-WR-CALDESC:Events for SINGPromos.com
BEGIN:VEVENT
DTSTART:20160218T000000
DTEND:20160310T235900
DTSTAMP:20260420T050959
CREATED:20160219T141207
LAST-MODIFIED:20160219T143558
UID:172696@https://singpromos.com
SUMMARY:Cathay Pacific fr $178 all-in Two-To-Go Promo Fares For ANZ Cardmembers 18 Feb - 10 Mar 2016
DESCRIPTION:Special airfares for your perfect getaway. It's a great time for you to plan that much-deserved vacation.. For more information, visit [ https://singpromos.com/airlines-flights/cathay-pacific-fr-178-all-in-two-to-go-promo-fares-for-anz-cardmembers-18-feb-10-mar-2016-172696/ ]. 
LOCATION:
URL:https://singpromos.com/airlines-flights/cathay-pacific-fr-178-all-in-two-to-go-promo-fares-for-anz-cardmembers-18-feb-10-mar-2016-172696/
END:VEVENT
END:VCALENDAR