BEGIN:VCALENDAR
PRODID:-//SINGPromos.com//NONSGML v1.0//EN
VERSION:2.0
CALSCALE:GREGORIAN
METHOD:PUBLISH
X-WR-CALNAME:SINGPromos.com
X-ORIGINAL-URL:https://singpromos.com
X-WR-CALDESC:Events for SINGPromos.com
BEGIN:VEVENT
DTSTART:20160221T000000
DTEND:20160314T235900
DTSTAMP:20260420T045108
CREATED:20160221T130947
LAST-MODIFIED:20160222T121808
UID:172824@https://singpromos.com
SUMMARY:British Airways fr $668 Promo Fares 21 Feb - 14 Mar 2016
DESCRIPTION:Welcome to the British Airways Sale. Enjoy savings across all cabins to Singapore - as well as to over 85 European destinations when you connect at London Heathrow Terminal 5.. For more information, visit [ https://singpromos.com/airlines-flights/british-airways-fr-668-promo-fares-21-feb-14-mar-2016-172824/ ]. 
LOCATION:
URL:https://singpromos.com/airlines-flights/british-airways-fr-668-promo-fares-21-feb-14-mar-2016-172824/
END:VEVENT
END:VCALENDAR