BEGIN:VCALENDAR
PRODID:-//SINGPromos.com//NONSGML v1.0//EN
VERSION:2.0
CALSCALE:GREGORIAN
METHOD:PUBLISH
X-WR-CALNAME:SINGPromos.com
X-ORIGINAL-URL:https://singpromos.com
X-WR-CALDESC:Events for SINGPromos.com
BEGIN:VEVENT
DTSTART:20160223T000000
DTEND:20160229T235900
DTSTAMP:20260420T045100
CREATED:20160223T004714
LAST-MODIFIED:20160223T004724
UID:172913@https://singpromos.com
SUMMARY:Etihad Airways Global Sale 23 - 29 Feb 2016
DESCRIPTION:Take advantage of Etihad Airways Global Sale offering you discounts in Economy and Business Class for travel throughout 2016. For more information, visit [ https://singpromos.com/airlines-flights/etihad-airways-global-sale-23-29-feb-2016-172913/ ]. 
LOCATION:
URL:https://singpromos.com/airlines-flights/etihad-airways-global-sale-23-29-feb-2016-172913/
END:VEVENT
END:VCALENDAR