BEGIN:VCALENDAR
PRODID:-//SINGPromos.com//NONSGML v1.0//EN
VERSION:2.0
CALSCALE:GREGORIAN
METHOD:PUBLISH
X-WR-CALNAME:SINGPromos.com
X-ORIGINAL-URL:https://singpromos.com
X-WR-CALDESC:Events for SINGPromos.com
BEGIN:VEVENT
DTSTART:20160223T000000
DTEND:20160224T235900
DTSTAMP:20260420T014713
CREATED:20160223T113057
LAST-MODIFIED:20160223T123459
UID:172923@https://singpromos.com
SUMMARY:Braun 65% off Silk Epil 5 SE5780 Epilator 24hr Deal 23 - 24 Feb 2016
DESCRIPTION:Get the Braun Silk Epil 5 SE5780 Epilator with Comfort System and Five Attachments Fully Washable at 65% off. Never wait again for your body hair to grow so that wax can get it.. For more information, visit [ https://singpromos.com/personal-care/braun-65-off-silk-epil-5-se5780-epilator-24hr-deal-23-24-feb-2016-172923/ ]. 
LOCATION:
URL:https://singpromos.com/personal-care/braun-65-off-silk-epil-5-se5780-epilator-24hr-deal-23-24-feb-2016-172923/
END:VEVENT
END:VCALENDAR