BEGIN:VCALENDAR
PRODID:-//SINGPromos.com//NONSGML v1.0//EN
VERSION:2.0
CALSCALE:GREGORIAN
METHOD:PUBLISH
X-WR-CALNAME:SINGPromos.com
X-ORIGINAL-URL:https://singpromos.com
X-WR-CALDESC:Events for SINGPromos.com
BEGIN:VEVENT
DTSTART:20160223T000000
DTEND:20160331T235900
DTSTAMP:20260422T074737
CREATED:20160223T185722
LAST-MODIFIED:20160316T133907
UID:172959@https://singpromos.com
SUMMARY:Lazada $15 OFF $80 Spend Coupon Code 23 Feb - 31 Mar 2016
DESCRIPTION:Get $15 OFF when you order Lazada Singapore with the below coupon code with Lazada's promotion. Must make payment via MasterCard's MasterPass. For more information, visit [ https://singpromos.com/department-stores/lazada-15-off-80-spend-coupon-code-23-feb-31-mar-2016-172959/ ]. 
LOCATION:
URL:https://singpromos.com/department-stores/lazada-15-off-80-spend-coupon-code-23-feb-31-mar-2016-172959/
END:VEVENT
END:VCALENDAR