BEGIN:VCALENDAR
PRODID:-//SINGPromos.com//NONSGML v1.0//EN
VERSION:2.0
CALSCALE:GREGORIAN
METHOD:PUBLISH
X-WR-CALNAME:SINGPromos.com
X-ORIGINAL-URL:https://singpromos.com
X-WR-CALDESC:Events for SINGPromos.com
BEGIN:VEVENT
DTSTART:20160224T000000
DTEND:20160227T235900
DTSTAMP:20260422T082321
CREATED:20160224T213251
LAST-MODIFIED:20160224T213251
UID:173037@https://singpromos.com
SUMMARY:celio* Up To 70% Off @ City Link Mall 24 - 27 Feb 2016
DESCRIPTION:celio* is having a moving out sale featuring items at up to 70% off at City Link Mall. For more information, visit [ https://singpromos.com/warehouse-sales/celio-up-to-70-off-city-link-mall-24-27-feb-2016-173037/ ]. 
LOCATION:039393
URL:https://singpromos.com/warehouse-sales/celio-up-to-70-off-city-link-mall-24-27-feb-2016-173037/
END:VEVENT
END:VCALENDAR