BEGIN:VCALENDAR
PRODID:-//SINGPromos.com//NONSGML v1.0//EN
VERSION:2.0
CALSCALE:GREGORIAN
METHOD:PUBLISH
X-WR-CALNAME:SINGPromos.com
X-ORIGINAL-URL:https://singpromos.com
X-WR-CALDESC:Events for SINGPromos.com
BEGIN:VEVENT
DTSTART:20160225T000000
DTEND:20160302T235900
DTSTAMP:20260422T082306
CREATED:20160225T134621
LAST-MODIFIED:20160225T134633
UID:173082@https://singpromos.com
SUMMARY:Giant Dare-To-Compare Offers (Tasmania Salmon, Merries Diapers & More) 25 Feb - 2 Mar 2016
DESCRIPTION:Check out Giant's latest Dare-To-Compare featuring Tasmania Salmon, Merries Baby Diapers mix-&-match and other offers. For more information, visit [ https://singpromos.com/dining-restaurants-food/giant-dare-to-compare-offers-tasmania-salmon-merries-diapers-more-25-feb-2-mar-2016-173082/ ]. 
LOCATION:
URL:https://singpromos.com/dining-restaurants-food/giant-dare-to-compare-offers-tasmania-salmon-merries-diapers-more-25-feb-2-mar-2016-173082/
END:VEVENT
END:VCALENDAR