BEGIN:VCALENDAR
PRODID:-//SINGPromos.com//NONSGML v1.0//EN
VERSION:2.0
CALSCALE:GREGORIAN
METHOD:PUBLISH
X-WR-CALNAME:SINGPromos.com
X-ORIGINAL-URL:https://singpromos.com
X-WR-CALDESC:Events for SINGPromos.com
BEGIN:VEVENT
DTSTART:20160226T000000
DTEND:20160306T235900
DTSTAMP:20260422T082232
CREATED:20160225T193109
LAST-MODIFIED:20160225T193109
UID:173113@https://singpromos.com
SUMMARY:Cristofori Warehouse Renovation Sale @ Bedok 26 Feb - 6 Mar 2016
DESCRIPTION:Cristofori will be having a Warehouse Renovation Sale from 26th Feb to 6th March 2016, 10am-7pm. More than 500 sets of piano to grab. For more information, visit [ https://singpromos.com/warehouse-sales/cristofori-warehouse-renovation-sale-bedok-26-feb-6-mar-2016-173113/ ]. 
LOCATION:489980
URL:https://singpromos.com/warehouse-sales/cristofori-warehouse-renovation-sale-bedok-26-feb-6-mar-2016-173113/
END:VEVENT
END:VCALENDAR