BEGIN:VCALENDAR
PRODID:-//SINGPromos.com//NONSGML v1.0//EN
VERSION:2.0
CALSCALE:GREGORIAN
METHOD:PUBLISH
X-WR-CALNAME:SINGPromos.com
X-ORIGINAL-URL:https://singpromos.com
X-WR-CALDESC:Events for SINGPromos.com
BEGIN:VEVENT
DTSTART:20160226T000000
DTEND:20160228T235900
DTSTAMP:20260422T082301
CREATED:20160226T001955
LAST-MODIFIED:20160228T234515
UID:173127@https://singpromos.com
SUMMARY:Groupon 5% to 30% OFF (NO Min Spend) Selected Deals Coupon Code 26 - 28 Feb 2016
DESCRIPTION:Get 5% to 30% off selected deals with the promo code below at checkout at Groupon Singapore. For more information, visit [ https://singpromos.com/department-stores/groupon-5-to-30-off-no-min-spend-selected-deals-coupon-code-26-28-feb-2016-173127/ ]. 
LOCATION:
URL:https://singpromos.com/department-stores/groupon-5-to-30-off-no-min-spend-selected-deals-coupon-code-26-28-feb-2016-173127/
END:VEVENT
END:VCALENDAR