BEGIN:VCALENDAR
PRODID:-//SINGPromos.com//NONSGML v1.0//EN
VERSION:2.0
CALSCALE:GREGORIAN
METHOD:PUBLISH
X-WR-CALNAME:SINGPromos.com
X-ORIGINAL-URL:https://singpromos.com
X-WR-CALDESC:Events for SINGPromos.com
BEGIN:VEVENT
DTSTART:20160227T000000
DTEND:20160331T235900
DTSTAMP:20260422T082316
CREATED:20160227T144412
LAST-MODIFIED:20160401T013155
UID:173240@https://singpromos.com
SUMMARY:Seagate ~S$169 4TB 2.5" Portable External USB Drive Deal From 27 Feb 2016
DESCRIPTION:Grab a Seagate 2.5" Expansion 4TB Portable External Hard Drive USB 3.0 (STEA2000400) Powered by USB port at about S$169. For more information, visit [ https://singpromos.com/computers-pc/seagate-s169-4tb-2-5-portable-external-usb-drive-deal-from-27-feb-2016-173240/ ]. 
LOCATION:
URL:https://singpromos.com/computers-pc/seagate-s169-4tb-2-5-portable-external-usb-drive-deal-from-27-feb-2016-173240/
END:VEVENT
END:VCALENDAR