BEGIN:VCALENDAR
PRODID:-//SINGPromos.com//NONSGML v1.0//EN
VERSION:2.0
CALSCALE:GREGORIAN
METHOD:PUBLISH
X-WR-CALNAME:SINGPromos.com
X-ORIGINAL-URL:https://singpromos.com
X-WR-CALDESC:Events for SINGPromos.com
BEGIN:VEVENT
DTSTART:20160229T000000
DTEND:20160403T235900
DTSTAMP:20260422T082304
CREATED:20160229T074143
LAST-MODIFIED:20160328T011420
UID:173312@https://singpromos.com
SUMMARY:Air Asia Go fr $90/pax (3D2N Hotel, Flights + Taxes) Holiday Sale 29 Feb - 3 Apr 2016
DESCRIPTION:Go on a Holiday: 3D2N Flights + Hotel + Tax from $90/pax at Air Asia Go. For more information, visit [ https://singpromos.com/vacations/air-asia-go-fr-90pax-3d2n-hotel-flights-taxes-holiday-sale-29-feb-31-mar-2016-173312/ ]. 
LOCATION:
URL:https://singpromos.com/vacations/air-asia-go-fr-90pax-3d2n-hotel-flights-taxes-holiday-sale-29-feb-31-mar-2016-173312/
END:VEVENT
END:VCALENDAR