BEGIN:VCALENDAR
PRODID:-//SINGPromos.com//NONSGML v1.0//EN
VERSION:2.0
CALSCALE:GREGORIAN
METHOD:PUBLISH
X-WR-CALNAME:SINGPromos.com
X-ORIGINAL-URL:https://singpromos.com
X-WR-CALDESC:Events for SINGPromos.com
BEGIN:VEVENT
DTSTART:20160229T000000
DTEND:20160327T235900
DTSTAMP:20260420T053435
CREATED:20160301T040225
LAST-MODIFIED:20160303T193113
UID:173382@https://singpromos.com
SUMMARY:IKEA Promo Offers (Updated 3 Mar) 29 Feb - 27 Mar 2016
DESCRIPTION:Enjoy discounts you can take advantage of as a member of IKEA Family (membership is free). If you are not a member, sign-up for free as an IKEA FAMILY member in the store to get your Temporary Card before making your purchase.. For more information, visit [ https://singpromos.com/department-stores/ikea-promo-offers-29-feb-27-mar-2016-173382/ ]. 
LOCATION:
URL:https://singpromos.com/department-stores/ikea-promo-offers-29-feb-27-mar-2016-173382/
END:VEVENT
END:VCALENDAR