BEGIN:VCALENDAR
PRODID:-//SINGPromos.com//NONSGML v1.0//EN
VERSION:2.0
CALSCALE:GREGORIAN
METHOD:PUBLISH
X-WR-CALNAME:SINGPromos.com
X-ORIGINAL-URL:https://singpromos.com
X-WR-CALDESC:Events for SINGPromos.com
BEGIN:VEVENT
DTSTART:20160320T000000
DTEND:20160320T235900
DTSTAMP:20260420T055011
CREATED:20160301T173932
LAST-MODIFIED:20160320T120352
UID:173421@https://singpromos.com
SUMMARY:Coffee Bean & Tea Leaf $2 Off Sliced Cakes 1-Day Promo 20 Mar 2016
DESCRIPTION:Enjoy $2 off sliced cakes at all Coffee Bean & Tea Leaf outlets on 20 March 2016 as they celebrate 20 years in Singapore. For more information, visit [ https://singpromos.com/dining-restaurants-food/coffee-bean-tea-leaf-2-off-sliced-cakes-1-day-promo-20-mar-2016-173421/ ]. 
LOCATION:
URL:https://singpromos.com/dining-restaurants-food/coffee-bean-tea-leaf-2-off-sliced-cakes-1-day-promo-20-mar-2016-173421/
END:VEVENT
END:VCALENDAR