BEGIN:VCALENDAR
PRODID:-//SINGPromos.com//NONSGML v1.0//EN
VERSION:2.0
CALSCALE:GREGORIAN
METHOD:PUBLISH
X-WR-CALNAME:SINGPromos.com
X-ORIGINAL-URL:https://singpromos.com
X-WR-CALDESC:Events for SINGPromos.com
BEGIN:VEVENT
DTSTART:20160301T000000
DTEND:20160430T235900
DTSTAMP:20260422T082312
CREATED:20160301T174253
LAST-MODIFIED:20160301T174253
UID:173443@https://singpromos.com
SUMMARY:Laughing Cow Cheese Promotion 1 Mar - 30 Apr 2016
DESCRIPTION:Enjoy great savings for all the Laughing Cow products from 1 March 2016 to 30 April 2016.. For more information, visit [ https://singpromos.com/dining-restaurants-food/laughing-cow-cheese-promotion-1-mar-30-apr-2016-173443/ ]. 
LOCATION:
URL:https://singpromos.com/dining-restaurants-food/laughing-cow-cheese-promotion-1-mar-30-apr-2016-173443/
END:VEVENT
END:VCALENDAR