BEGIN:VCALENDAR
PRODID:-//SINGPromos.com//NONSGML v1.0//EN
VERSION:2.0
CALSCALE:GREGORIAN
METHOD:PUBLISH
X-WR-CALNAME:SINGPromos.com
X-ORIGINAL-URL:https://singpromos.com
X-WR-CALDESC:Events for SINGPromos.com
BEGIN:VEVENT
DTSTART:20160304T000000
DTEND:20160306T235900
DTSTAMP:20260420T073144
CREATED:20160303T185352
LAST-MODIFIED:20160303T185352
UID:173593@https://singpromos.com
SUMMARY:Dynasty Travel Roadshow @ Changi City Point 4 - 6 Mar 2016
DESCRIPTION:Dynasty Travel will be having a Roadshow from 4-6 March 2016 (Friday - Sunday) 11am - 8pm at Changi City Point Atrium B - Level 1 (near Uniqlo). For more information, visit [ https://singpromos.com/happenings/dynasty-travel-roadshow-changi-city-point-4-6-mar-2016-173593/ ]. 
LOCATION:486038
URL:https://singpromos.com/happenings/dynasty-travel-roadshow-changi-city-point-4-6-mar-2016-173593/
END:VEVENT
END:VCALENDAR