BEGIN:VCALENDAR
PRODID:-//SINGPromos.com//NONSGML v1.0//EN
VERSION:2.0
CALSCALE:GREGORIAN
METHOD:PUBLISH
X-WR-CALNAME:SINGPromos.com
X-ORIGINAL-URL:https://singpromos.com
X-WR-CALDESC:Events for SINGPromos.com
BEGIN:VEVENT
DTSTART:20160304T000000
DTEND:20161130T235900
DTSTAMP:20260420T232524
CREATED:20160304T154333
LAST-MODIFIED:20160304T164001
UID:173660@https://singpromos.com
SUMMARY:Saudi Arabian Airlines fr $539 Europe Promo Fares 4 Mar - 30 Nov 2016
DESCRIPTION:Saudi Arabian Airlines is offering travel fares to Europe from as low as S$539*. Sample all-in fares after taxes: London $810, New York $824, Paris $666. Fares are subject to changes. For more information, visit [ https://singpromos.com/airlines-flights/saudi-arabian-airlines-fr-539-europe-promo-fares-4-mar-30-nov-2016-173660/ ]. 
LOCATION:
URL:https://singpromos.com/airlines-flights/saudi-arabian-airlines-fr-539-europe-promo-fares-4-mar-30-nov-2016-173660/
END:VEVENT
END:VCALENDAR