BEGIN:VCALENDAR
PRODID:-//SINGPromos.com//NONSGML v1.0//EN
VERSION:2.0
CALSCALE:GREGORIAN
METHOD:PUBLISH
X-WR-CALNAME:SINGPromos.com
X-ORIGINAL-URL:https://singpromos.com
X-WR-CALDESC:Events for SINGPromos.com
BEGIN:VEVENT
DTSTART:20160305T000000
DTEND:20160306T235900
DTSTAMP:20260420T014713
CREATED:20160305T084426
LAST-MODIFIED:20160305T084500
UID:173729@https://singpromos.com
SUMMARY:Braun 69% Off Series 5 5040s Men's Electric Foil Shaver Wet/Dry 24hr Deal 5 - 6 Mar 2016
DESCRIPTION:Get the Braun Series 5 5040s Men's Electric Foil Shaver Wet/Dry at 69% off. Boasting a pivoting swivel head and face fitting foils it brags an awe-striking flexibility that's hard to beat. A triple action cutting system. For more information, visit [ https://singpromos.com/personal-care/braun-69-off-series-5-5040s-mens-electric-foil-shaver-wetdry-24hr-deal-5-6-mar-2016-173729/ ]. 
LOCATION:
URL:https://singpromos.com/personal-care/braun-69-off-series-5-5040s-mens-electric-foil-shaver-wetdry-24hr-deal-5-6-mar-2016-173729/
END:VEVENT
END:VCALENDAR