BEGIN:VCALENDAR
PRODID:-//SINGPromos.com//NONSGML v1.0//EN
VERSION:2.0
CALSCALE:GREGORIAN
METHOD:PUBLISH
X-WR-CALNAME:SINGPromos.com
X-ORIGINAL-URL:https://singpromos.com
X-WR-CALDESC:Events for SINGPromos.com
BEGIN:VEVENT
DTSTART:20160306T000000
DTEND:20160331T235900
DTSTAMP:20260420T175949
CREATED:20160306T164030
LAST-MODIFIED:20160306T164030
UID:173769@https://singpromos.com
SUMMARY:Norman Security Software 10% to 15% Off Coupon Codes 6 - 31 Mar 2016
DESCRIPTION:Get up to 15% OFF on Norman Security Suite PRO, Security Suite, Antivirus and more. For more information, visit [ https://singpromos.com/computers-pc/norman-security-software-10-to-15-off-coupon-codes-6-31-mar-2016-173769/ ]. 
LOCATION:
URL:https://singpromos.com/computers-pc/norman-security-software-10-to-15-off-coupon-codes-6-31-mar-2016-173769/
END:VEVENT
END:VCALENDAR