BEGIN:VCALENDAR
PRODID:-//SINGPromos.com//NONSGML v1.0//EN
VERSION:2.0
CALSCALE:GREGORIAN
METHOD:PUBLISH
X-WR-CALNAME:SINGPromos.com
X-ORIGINAL-URL:https://singpromos.com
X-WR-CALDESC:Events for SINGPromos.com
BEGIN:VEVENT
DTSTART:20111027T000000
DTEND:20111117T235900
DTSTAMP:20260420T162052
CREATED:20111028T015244
LAST-MODIFIED:20111028T015244
UID:17397@https://singpromos.com
SUMMARY:Kenny G Heart & Soul Live Singapore Concert @ Marina Bay Sands 17 Nov 2011
DESCRIPTION:Don't miss this One-Night-Only concert to hear one of the world's greatest musicians Kenny G! Kenny G Heart & Soul Live Concert in Singapore brought to you by JP Entertainment, Scorpio East Productions & Marina Bay Sands!. For more information, visit [ https://singpromos.com/happenings/kenny-g-heart-soul-live-singapore-concert-marina-bay-sands-17-nov-2011-17397/ ]. 
LOCATION:
URL:https://singpromos.com/happenings/kenny-g-heart-soul-live-singapore-concert-marina-bay-sands-17-nov-2011-17397/
END:VEVENT
END:VCALENDAR