BEGIN:VCALENDAR
PRODID:-//SINGPromos.com//NONSGML v1.0//EN
VERSION:2.0
CALSCALE:GREGORIAN
METHOD:PUBLISH
X-WR-CALNAME:SINGPromos.com
X-ORIGINAL-URL:https://singpromos.com
X-WR-CALDESC:Events for SINGPromos.com
BEGIN:VEVENT
DTSTART:20111027T000000
DTEND:20111030T235900
DTSTAMP:20260424T034138
CREATED:20111028T021935
LAST-MODIFIED:20111029T024759
UID:17413@https://singpromos.com
SUMMARY:K.I.N Clearance Sale Up To 80% Off 27 Oct 2011
DESCRIPTION:K.I.N is having their annual clearance sale with up to 80% off. Items include engineered garments, Garni, Julian Red, Maiden Noir, MHI, PAM, Sifr, Wrath Arcane, Pointer and generic surplus. For more information, visit [ https://singpromos.com/fashion-accessories/k-i-n-clearance-sale-up-to-80-off-27-oct-2011-17413/ ]. 
LOCATION:51 Haji Lane
URL:https://singpromos.com/fashion-accessories/k-i-n-clearance-sale-up-to-80-off-27-oct-2011-17413/
END:VEVENT
END:VCALENDAR