BEGIN:VCALENDAR
PRODID:-//SINGPromos.com//NONSGML v1.0//EN
VERSION:2.0
CALSCALE:GREGORIAN
METHOD:PUBLISH
X-WR-CALNAME:SINGPromos.com
X-ORIGINAL-URL:https://singpromos.com
X-WR-CALDESC:Events for SINGPromos.com
BEGIN:VEVENT
DTSTART:20160313T000000
DTEND:20160313T235900
DTSTAMP:20260422T082149
CREATED:20160312T161954
LAST-MODIFIED:20160312T012103
UID:174244@https://singpromos.com
SUMMARY:Timezone 100% Extra Double Dollar Promo 13 Mar 2016
DESCRIPTION:Timezone's Double Dollar deal is back again. Buy $30 and get an additional $30 FREE. For more information, visit [ https://singpromos.com/places-of-interest/timezone-100-extra-double-dollar-promo-13-mar-2016-174244/ ]. 
LOCATION:
URL:https://singpromos.com/places-of-interest/timezone-100-extra-double-dollar-promo-13-mar-2016-174244/
END:VEVENT
END:VCALENDAR