BEGIN:VCALENDAR
PRODID:-//SINGPromos.com//NONSGML v1.0//EN
VERSION:2.0
CALSCALE:GREGORIAN
METHOD:PUBLISH
X-WR-CALNAME:SINGPromos.com
X-ORIGINAL-URL:https://singpromos.com
X-WR-CALDESC:Events for SINGPromos.com
BEGIN:VEVENT
DTSTART:20160312T000000
DTEND:20160313T235900
DTSTAMP:20260420T014656
CREATED:20160312T100758
LAST-MODIFIED:20160312T100811
UID:174276@https://singpromos.com
SUMMARY:Braun 71% Off Series 3 3080 Men's Electric Foil Shaver Wet/Dry 24hr Deal 12 - 13 Mar 2016
DESCRIPTION:Get the Braun Series 3 3080 Men's Electric Foil Shaver Wet/Dry at 71% off. Close shave, good skin comfort, faster than ever before,* with new MicroComb technology (*Vs previous Series 3 on a 3-day beard). For more information, visit [ https://singpromos.com/personal-care/braun-71-off-series-3-3080-mens-electric-foil-shaver-wetdry-24hr-deal-12-13-mar-2016-174276/ ]. 
LOCATION:
URL:https://singpromos.com/personal-care/braun-71-off-series-3-3080-mens-electric-foil-shaver-wetdry-24hr-deal-12-13-mar-2016-174276/
END:VEVENT
END:VCALENDAR