BEGIN:VCALENDAR
PRODID:-//SINGPromos.com//NONSGML v1.0//EN
VERSION:2.0
CALSCALE:GREGORIAN
METHOD:PUBLISH
X-WR-CALNAME:SINGPromos.com
X-ORIGINAL-URL:https://singpromos.com
X-WR-CALDESC:Events for SINGPromos.com
BEGIN:VEVENT
DTSTART:20160101T000000
DTEND:20161231T235900
DTSTAMP:20260422T074508
CREATED:20160312T141604
LAST-MODIFIED:20160312T142044
UID:174286@https://singpromos.com
SUMMARY:Shaw Theatres Free Popcorn Combo Set w/ MasterPass Payments 1 Jan - 31 Dec 2016
DESCRIPTION:Get a FREE Regular Popcorn Combo Set with MasterPass. Buy with MasterPass, using a Credit, Debit or Prepaid MasterCard card via MasterPass and get a FREE Regular Popcorn Combo Set with every purchase of 2 or more tickets. For more information, visit [ https://singpromos.com/places-of-interest/shaw-theatres-free-popcorn-combo-set-w-masterpass-payments-1-jan-31-dec-2016-174286/ ]. 
LOCATION:
URL:https://singpromos.com/places-of-interest/shaw-theatres-free-popcorn-combo-set-w-masterpass-payments-1-jan-31-dec-2016-174286/
END:VEVENT
END:VCALENDAR