BEGIN:VCALENDAR
PRODID:-//SINGPromos.com//NONSGML v1.0//EN
VERSION:2.0
CALSCALE:GREGORIAN
METHOD:PUBLISH
X-WR-CALNAME:SINGPromos.com
X-ORIGINAL-URL:https://singpromos.com
X-WR-CALDESC:Events for SINGPromos.com
BEGIN:VEVENT
DTSTART:20160315T000000
DTEND:20160405T235900
DTSTAMP:20260420T050919
CREATED:20160315T145224
LAST-MODIFIED:20160315T145421
UID:174409@https://singpromos.com
SUMMARY:Cathay Pacific fr $248 all-in Promo Fares for Maybank Cardmembers 15 Mar - 5 Apr 2016
DESCRIPTION:The secret is out! Enjoy exclusive airfares on Cathay Pacific with Maybank cards from 15 Mar. Fly to Hong Kong with Cathay Pacific from S$248, Bangkok fr $178 and many more. For more information, visit [ https://singpromos.com/airlines-flights/cathay-pacific-fr-248-all-in-promo-fares-for-maybank-cardmembers-15-mar-5-apr-2016-174409/ ]. 
LOCATION:
URL:https://singpromos.com/airlines-flights/cathay-pacific-fr-248-all-in-promo-fares-for-maybank-cardmembers-15-mar-5-apr-2016-174409/
END:VEVENT
END:VCALENDAR