BEGIN:VCALENDAR
PRODID:-//SINGPromos.com//NONSGML v1.0//EN
VERSION:2.0
CALSCALE:GREGORIAN
METHOD:PUBLISH
X-WR-CALNAME:SINGPromos.com
X-ORIGINAL-URL:https://singpromos.com
X-WR-CALDESC:Events for SINGPromos.com
BEGIN:VEVENT
DTSTART:20160412T000000
DTEND:20160412T235900
DTSTAMP:20260422T082319
CREATED:20160318T123105
LAST-MODIFIED:20160401T163932
UID:174747@https://singpromos.com
SUMMARY:Ben & Jerry's FREE Cone Day (FREE Ice Cream Giveaway) 12 Apr 2016
DESCRIPTION:Celebrate the Ben & Jerriest Day of the Year with FREE Ice Cream on 12 April! They will be scooping up a storm at all three Scoop Shops at 313@Somerset, VivoCity and Dempsey Hill!. For more information, visit [ https://singpromos.com/dining-restaurants-food/ben-jerrys-free-cone-day-free-ice-cream-giveaway-12-apr-2016-174747/ ]. 
LOCATION:
URL:https://singpromos.com/dining-restaurants-food/ben-jerrys-free-cone-day-free-ice-cream-giveaway-12-apr-2016-174747/
END:VEVENT
END:VCALENDAR