BEGIN:VCALENDAR
PRODID:-//SINGPromos.com//NONSGML v1.0//EN
VERSION:2.0
CALSCALE:GREGORIAN
METHOD:PUBLISH
X-WR-CALNAME:SINGPromos.com
X-ORIGINAL-URL:https://singpromos.com
X-WR-CALDESC:Events for SINGPromos.com
BEGIN:VEVENT
DTSTART:20160324T000000
DTEND:20160327T235900
DTSTAMP:20260422T202153
CREATED:20160324T144041
LAST-MODIFIED:20160324T144234
UID:175200@https://singpromos.com
SUMMARY:Cold Storage Haagen Dazs Multi Packs (Buy 2 Get 1 Free), 1-for-1 Blush Pears & More 24 - 27 Mar 2016
DESCRIPTION:Check out Cold Storage's latest 4-Day offers featuring buy 2 get 1 free Haagen Dazs Multi Packs, Blush Pear 1-for-1, up to 73% off BSF Kitchenware (by Zwilling J.A. Henckels AG), Nestle Free WMF Scissors with $48 spend, Baby Fair and more. For more information, visit [ https://singpromos.com/dining-restaurants-food/cold-storage-haagen-dazs-multi-packs-buy-2-get-1-free-1-for-1-blush-pears-more-24-27-mar-2016-175200/ ]. 
LOCATION:
URL:https://singpromos.com/dining-restaurants-food/cold-storage-haagen-dazs-multi-packs-buy-2-get-1-free-1-for-1-blush-pears-more-24-27-mar-2016-175200/
END:VEVENT
END:VCALENDAR