BEGIN:VCALENDAR
PRODID:-//SINGPromos.com//NONSGML v1.0//EN
VERSION:2.0
CALSCALE:GREGORIAN
METHOD:PUBLISH
X-WR-CALNAME:SINGPromos.com
X-ORIGINAL-URL:https://singpromos.com
X-WR-CALDESC:Events for SINGPromos.com
BEGIN:VEVENT
DTSTART:20160326T000000
DTEND:20160327T235900
DTSTAMP:20260422T060838
CREATED:20160326T001953
LAST-MODIFIED:20160326T004148
UID:175489@https://singpromos.com
SUMMARY:SK-II S$154 330ml Facial Treatment Essence Deal 26 - 27 Mar 2016
DESCRIPTION:Get the SK-II Facial Treatment Essence 330ml at $154 at Lazada's online store.. For more information, visit [ https://singpromos.com/beauty/sk-ii-s154-330ml-facial-treatment-essence-deal-26-27-mar-2016-175489/ ]. 
LOCATION:
URL:https://singpromos.com/beauty/sk-ii-s154-330ml-facial-treatment-essence-deal-26-27-mar-2016-175489/
END:VEVENT
END:VCALENDAR