BEGIN:VCALENDAR
PRODID:-//SINGPromos.com//NONSGML v1.0//EN
VERSION:2.0
CALSCALE:GREGORIAN
METHOD:PUBLISH
X-WR-CALNAME:SINGPromos.com
X-ORIGINAL-URL:https://singpromos.com
X-WR-CALDESC:Events for SINGPromos.com
BEGIN:VEVENT
DTSTART:20160328T000000
DTEND:20160501T235900
DTSTAMP:20260420T053439
CREATED:20160328T154457
LAST-MODIFIED:20160328T142315
UID:175601@https://singpromos.com
SUMMARY:IKEA Promo Offers 28 Mar - 1 May 2016
DESCRIPTION:Enjoy discounts you can take advantage of as a member of IKEA Family (membership is free). If you are not a member, sign-up for free as an IKEA FAMILY member in the store to get your Temporary Card before making your purchase.. For more information, visit [ https://singpromos.com/department-stores/ikea-promo-offers-28-mar-1-may-2016-175601/ ]. 
LOCATION:
URL:https://singpromos.com/department-stores/ikea-promo-offers-28-mar-1-may-2016-175601/
END:VEVENT
END:VCALENDAR